Workbook

Sheet Investeringsplan
A5: Naam van het virtueel bedrijf | D5: Code: BE01
A6: Nummer van de firmarekening bij COFEBA
A8: Investeringsplan
C10: BEDRAGEN | D10: SUBTOTALEN
A11: Oprichtingskosten: (bv. oprichting vennootschap,…) | D11: =C11 -> 0
A12: Materiële vaste activa: (nieuw aan te kopen) | D12: =SUM(C13:C18) -> 0
A13: Inrichting gebouw (vloer, rekken,…)
A14: Machines en toestellen
A15: Meubilair
A16: Gereedschap en klein materiaal
A17: Hardware en software
A18: Rollend materieel (auto,…)
A19: Financiële vaste activa: (huurwaarborg,…) | D19: =C19 -> 0
A20: Vlottende activa: | D20: =SUM(C21:C23) -> 0
A21: Voorraad grondstoffen
A22: Voorraad handelsgoederen
A23: Bank
A25: * de geel gemarkeerde lijnen, horen thuis in een investeringsplan, maar kan je in het COFEP-netwerk niet besteden. Deze kosten worden niet in rekening gebracht.

Sheet Vaste kostenplan
A5: Naam het virtueel bedrijf | B5: =Investeringsplan!B5 -> 0 | D5: =Investeringsplan!D5 -> Code: BE01
A6: Nummer van de firmarekening bij COFEBA | C6: =Investeringsplan!C6 -> 0
A8: Vaste kostenplan (deel 1)
C10: BEDRAGEN | D10: SUBTOTALEN
A11: Huisvestingskosten: | D11: =SUM(C12:C18) -> 0 | F11: De maandelijkse geschatte kost x het aantal maanden dat het virtueel bedrijf actief / open is.
A12: huur
A13: onroerende voorheffing
A14: gas, water, elektriciteit, verwarming
A15: verzekeringen (brand, diefstal, …)
A16: verfraaiing, onderhoud en herstellingen
A17: brandveiligheid
A18: … (zelf aanvullen)
A19: Administratieve kosten: | D19: =SUM(C20:C26) -> 0
A20: telefoon, gsm, fax, post, internet
A21: boekhouding
A22: bureelbenodigdheden
A23: provinciebelasting, taksen, fiscale zegels
A24: vennootschapsbijdrage
A25: kosten neerlegging jaarrekening
A26: … (zelf aanvullen)
A27: Marketingkosten: | D27: =SUM(C28:C36) -> 0
A28: publiciteit, reclame (mailings, folders, advertenties,…)
A29: website
A30: sponsoring
A31: PR/representatiekosten
A32: etalage/showroom
A33: beurzen
A34: stalen, relatiegeschenken, reclameartikelen
A35: verpakking
A36: … (zelf aanvullen)
A39: TOTAAL(1): | D39: =SUM(D5:D37) -> 0

Sheet Vaste kostenplan (2)
A5: Naam van het virtueel bedrijf: | B5: =Investeringsplan!B5 -> 0 | D5: =Investeringsplan!D5 -> Code: BE01
A6: Nummer van de firmarekening bij COFEBA | C6: =Investeringsplan!C6 -> 0
A8: Vaste kostenplan (deel 2)
C10: BEDRAGEN | D10: SUBTOTALEN
A11: Exploitatie- en productiekosten: | D11: =SUM(C12:C19) -> 0
A12: onderhoud en herstelling van machines en materiaal
A13: aankoop en reiniging beroepskledij
A14: gereedschap en klein materiaal
A15: verzekeringen (burgerlijke aansprakelijkheid)
A16: abonnementen en lidgelden
A17: verzorgingsproducten, medicatie
A18: SABAM, billijke vergoeding
A19: … (zelf aanvullen)
A20: Personeelskosten: | D20: =SUM(C21:C26) -> 0
A21: totale loonkost personeel
A22: verzekering personeel (arbeidsongevallen,…)
A23: geneeskundige dienst
A24: sociaal secretariaat
A25: vorming en opleiding
A26: … (zelf aanvullen)
A27: Verplaatsingskosten: | D27: =SUM(C28:C32) -> 0
A28: verzekering en taksen
A29: brandstof
A30: onderhoud en herstellingen
A31: verkeersbelasting
A32: … (zelf aanvullen)
A33: Financiële kosten: | D33: =SUM(C34:C37) -> 0
A34: bankkosten (beheer, kaarten, ...)
A35: intresten
A36: leasingkosten
A37: … (zelf aanvullen)
A38: Afschrijvingen: | D38: =C38 -> 0
A40: TOTAAL(2): | D40: =SUM(D11:D38) -> 0

Sheet Financieel plan
A6: Naam van het virtueel bedrijf: | B6: =Investeringsplan!B5 -> 0 | D6: =Investeringsplan!D5 -> Code: BE01
A7: Nummer van de firmarekening bij COFEBA | C7: =Investeringsplan!C6 -> 0
A9: Financieel plan
A11: Investeringen
D12: Bedragen
A13: =Investeringsplan!A11 -> Oprichtingskosten: (bv. oprichting vennootschap,…) | D13: =Investeringsplan!D11 -> 0
A14: =Investeringsplan!A12 -> Materiële vaste activa: (nieuw aan te kopen) | D14: =Investeringsplan!D12 -> 0
A15: =Investeringsplan!A19 -> Financiële vaste activa: (huurwaarborg,…) | D15: =Investeringsplan!D19 -> 0
A16: =Investeringsplan!A20 -> Vlottende activa: | D16: =Investeringsplan!D20 -> 0
A18: Totaal investeringen | D18: =SUM(D13:D17) -> 0
A20: Vaste Kosten
D21: Bedragen
A22: ='Vaste kostenplan'!A11 -> Huisvestingskosten: | D22: ='Vaste kostenplan'!D11 -> 0
A23: ='Vaste kostenplan'!A19 -> Administratieve kosten: | D23: ='Vaste kostenplan'!D19 -> 0
A24: ='Vaste kostenplan'!A27 -> Marketingkosten: | D24: ='Vaste kostenplan'!D27 -> 0
A25: ='Vaste kostenplan (2)'!A11 -> Exploitatie- en productiekosten: | D25: ='Vaste kostenplan (2)'!D11 -> 0
A26: ='Vaste kostenplan (2)'!A20 -> Personeelskosten: | D26: ='Vaste kostenplan (2)'!D20 -> 0
A27: ='Vaste kostenplan (2)'!A27 -> Verplaatsingskosten: | D27: ='Vaste kostenplan (2)'!D27 -> 0
A28: ='Vaste kostenplan (2)'!A33 -> Financiële kosten: | D28: ='Vaste kostenplan (2)'!D33 -> 0
A29: ='Vaste kostenplan (2)'!A38 -> Afschrijvingen: | D29: ='Vaste kostenplan (2)'!D38 -> 0
A31: Totaal vaste kosten | D31: =SUM(D22:D30) -> 0
A33: Totaal te financieren bedrag | D33: =D18+D31 -> 0
